BEGIN:VCALENDAR
VERSION:2.0
PRODID:-//213.186.33.16//NONSGML kigkonsult.se iCalcreator 2.20//
CALSCALE:GREGORIAN
METHOD:PUBLISH
X-WR-CALNAME:Badminton Club ARIS Luxembourg
X-WR-CALDESC:
X-FROM-URL:http://www.bcaris.lu
X-WR-TIMEZONE:Europe/Luxembourg
BEGIN:VTIMEZONE
TZID:Europe/Luxembourg
X-LIC-LOCATION:Europe/Luxembourg
BEGIN:STANDARD
DTSTART:20181028T030000
TZOFFSETFROM:+0200
TZOFFSETTO:+0100
TZNAME:CET
END:STANDARD
BEGIN:DAYLIGHT
DTSTART:20180325T020000
TZOFFSETFROM:+0100
TZOFFSETTO:+0200
TZNAME:CEST
END:DAYLIGHT
END:VTIMEZONE
BEGIN:VEVENT
UID:ai1ec-692@www.bcaris.lu
DTSTAMP:20180701T095704Z
CATEGORIES:
CONTACT:
DESCRIPTION:
DTSTART;TZID=Europe/Luxembourg:20180103T180000
DTEND;TZID=Europe/Luxembourg:20180103T200000
EXDATE;TZID=Europe/Luxembourg:20180214T180000
EXDATE;TZID=Europe/Luxembourg:20180404T180000
EXDATE;TZID=Europe/Luxembourg:20180411T180000
EXDATE;TZID=Europe/Luxembourg:20180523T180000
LOCATION:Eich / Mühlenbach
RRULE:FREQ=WEEKLY;UNTIL=20180711T235959Z
SEQUENCE:0
SUMMARY:Entrainement / Training
URL:http://www.bcaris.lu/event/entrainement-training-61/
X-COST-TYPE:free
END:VEVENT
END:VCALENDAR
