BEGIN:VCALENDAR
VERSION:2.0
PRODID:-//213.186.33.16//NONSGML kigkonsult.se iCalcreator 2.20//
CALSCALE:GREGORIAN
METHOD:PUBLISH
X-WR-CALNAME:Badminton Club ARIS Luxembourg
X-WR-CALDESC:
X-FROM-URL:http://www.bcaris.lu
X-WR-TIMEZONE:Europe/Luxembourg
BEGIN:VTIMEZONE
TZID:Europe/Luxembourg
X-LIC-LOCATION:Europe/Luxembourg
BEGIN:STANDARD
DTSTART:20181028T030000
TZOFFSETFROM:+0200
TZOFFSETTO:+0100
TZNAME:CET
END:STANDARD
BEGIN:DAYLIGHT
DTSTART:20180325T020000
TZOFFSETFROM:+0100
TZOFFSETTO:+0200
TZNAME:CEST
END:DAYLIGHT
END:VTIMEZONE
BEGIN:VEVENT
UID:ai1ec-691@www.bcaris.lu
DTSTAMP:20180701T095557Z
CATEGORIES:
CONTACT:
DESCRIPTION:
DTSTART;TZID=Europe/Luxembourg:20180102T190000
DTEND;TZID=Europe/Luxembourg:20180102T220000
EXDATE;TZID=Europe/Luxembourg:20180213T190000
EXDATE;TZID=Europe/Luxembourg:20180403T190000
EXDATE;TZID=Europe/Luxembourg:20180410T190000
EXDATE;TZID=Europe/Luxembourg:20180501T190000
EXDATE;TZID=Europe/Luxembourg:20180522T190000
LOCATION:Hamm
RRULE:FREQ=WEEKLY;UNTIL=20180710T235959Z
SEQUENCE:0
SUMMARY:Entrainement / Training
URL:http://www.bcaris.lu/event/entrainement-training-60/
X-COST-TYPE:free
END:VEVENT
END:VCALENDAR
